Workbook

Sheet ALLOCATION AS ON 31.10.2026
A1: अक्टूबर-2026 के लिए/For Month of October-2026
A2: स्टेशन/STATIONS | D2: स्थापित क्षमता/ INSTALLED CAPACITY | E2: आबंटित क्षमता/ ALLOCATED CAPACITY | F2: क्षेत्र के भीतर/Within the region | V2: क्षेत्र के बाहर/Outside the region
F3: अरूणाचल प्रदेश/ ARUNACHAL PRADESH | H3: असम / ASSAM | J3: मणिपुर/ MANIPUR | L3: मेघालय/ MEGHALAYA | N3: मिजोरम/ MIZORAM | P3: नागालैण्ड/ NAGALAND | R3: त्रिपुरा / TRIPURA | T3: पावरग्रिड डीवीसी/ POWERGRID-HVDC | V3: हरियाणा/ HARYANA | X3: उत्तर प्रदेश / UTTAR PRADESH | Z3: कर्नाटक/Karnataka | AB3: चंडीगढ़/Chandigarh | AD3: राजस्थान/Rajasthan | AF3: गुजरात/Gujarat | AH3: महाराष्ट्र/Maharashtra | AJ3: मध्यप्रदेश/ MADHYAPRADESH | AL3: गोवा/Goa | AN3: छत्तीसगढ/ CHHATTISGARH | AP3: तमिलनाडु/ TAMILNADU
A4: (A) फर्म शेयर/ FIRM SHARE | D4: MW | E4: MW | F4: MW | G4: % | H4: MW | I4: % | J4: MW | K4: % | L4: MW | M4: % | N4: MW | O4: % | P4: MW | Q4: % | R4: MW | S4: % | T4: MW | U4: % | V4: MW | W4: % | X4: MW | Y4: % | Z4: MW | AA4: % | AB4: MW | AC4: % | AD4: MW | AE4: % | AF4: MW | AG4: % | AH4: MW | AI4: % | AJ4: MW | AK4: % | AL4: MW | AM4: % | AN4: MW | AO4: % | AP4: MW | AQ4: %
A5: लोकतक एच.पी.एच / Loktak HPS | D5: 105 | E5: 89.9955 | F5: 4.998 | G5: =+F5/D5*100 -> 4.76 | H5: 24.297 | I5: =+H5/D5*100 -> 23.14 | J5: 30.3975 | K5: 28.95 | L5: 8.106 | M5: 7.72 | N5: 4.0005 | O5: 3.81 | P5: 6.1005 | Q5: 5.81 | R5: 12.096 | S5: 11.52 | T5: 0 | U5: 0 | V5: 0 | W5: 0 | X5: 0 | Y5: 0 | Z5: 0 | AA5: 0 | AB5: 0 | AC5: 0 | AD5: 0 | AE5: 0 | AF5: 0 | AG5: 0 | AH5: 0 | AI5: 0 | AJ5: 0 | AK5: 0 | AL5: 0 | AM5: 0 | AN5: 0 | AO5: 0 | AP5: 0 | AQ5: 0
A6: खानडोंग एच.पी.एस / Khandong HPS | D6: 46 | E6: 39.1 | F6: =$D$6*G6/100 -> 1.84 | G6: 4 | H6: =$D$6*I6/100 -> 22.8436 | I6: 49.66 | J6: =$D$6*K6/100 -> 2.4564 | K6: 5.34 | L6: =$D$6*M6/100 -> 5.52 | M6: 12 | N6: =$D$6*O6/100 -> 1.2236 | O6: 2.66 | P6: =$D$6*Q6/100 -> 2.76 | Q6: 6 | R6: =$D$6*S6/100 -> 2.4564 | S6: 5.34 | T6: 0 | U6: 0 | V6: 0 | W6: 0 | X6: 0 | Y6: 0 | Z6: 0 | AA6: 0 | AB6: 0 | AC6: 0 | AD6: 0 | AE6: 0 | AF6: 0 | AG6: 0 | AH6: 0 | AI6: 0 | AJ6: 0 | AK6: 0 | AL6: 0 | AM6: 0 | AN6: 0 | AO6: 0 | AP6: 0 | AQ6: 0
A7: कोपिली+कोपिली एक्सटेंसन एच.पी.एस / Kopili+Kopili Extn .HPS | D7: 200 | E7: 170 | F7: 10 | G7: 5 | H7: 93.67 | I7: 46.835 | J7: 12.33 | K7: 6.165 | L7: 25 | M7: 12.5 | N7: 6.67 | O7: 3.335 | P7: 11 | Q7: 5.5 | R7: 11.33 | S7: 5.665 | T7: 0 | U7: 0 | V7: 0 | W7: 0 | X7: 0 | Y7: 0 | Z7: 0 | AA7: 0 | AB7: 0 | AC7: 0 | AD7: 0 | AE7: 0 | AF7: 0 | AG7: 0 | AH7: 0 | AI7: 0 | AJ7: 0 | AK7: 0 | AL7: 0 | AM7: 0 | AN7: 0 | AO7: 0 | AP7: 0 | AQ7: 0
A8: कोपिली एच.ई.पी स्टेज-।। / Kopili HEP Stg. - II | D8: 23 | E8: 19.55 | F8: 1.334118 | G8: 5.800513 | H8: 10.51966 | I8: 45.737653 | J8: 1.3163514 | K8: 5.723267 | L8: 2.0178054 | M8: 8.773067 | N8: 1.095582 | O8: 4.7634 | P8: 1.1687986 | Q8: 5.081733 | R8: 2.0976844 | S8: 9.120367 | T8: 0 | U8: 0 | V8: 0 | W8: 0 | X8: 0 | Y8: 0 | Z8: 0 | AA8: 0 | AB8: 0 | AC8: 0 | AD8: 0 | AE8: 0 | AF8: 0 | AG8: 0 | AH8: 0 | AI8: 0 | AJ8: 0 | AK8: 0 | AL8: 0 | AM8: 0 | AN8: 0 | AO8: 0 | AP8: 0 | AQ8: 0
A9: कथलगुरी जी.पी.एस / Kathalguri GPS | D9: 291 | E9: 247 | F9: 16 | G9: =+F9/D9*100 -> 5.4982818 | H9: 0 | I9: =+H9/D9*100 -> 0 | J9: 20 | K9: 6.87 | L9: 20 | M9: 6.87 | N9: 12 | O9: 4.12 | P9: 15 | Q9: 5.15 | R9: 19 | S9: 6.53 | T9: 0 | U9: 0 | V9: 0 | W9: 0 | X9: 0 | Y9: 0 | Z9: 0 | AA9: 0 | AB9: 0 | AC9: 0 | AD9: 0 | AE9: 0 | AF9: 145 | AG9: =+AF9/D9*100 -> 49.828179 | AH9: 0 | AI9: 0 | AJ9: 0 | AK9: 0 | AL9: 0 | AM9: 0 | AN9: 0 | AO9: 0 | AP9: 0 | AQ9: 0
A10: अगरतला जी.टी.पी-सी.सी /Agartala GTP-CC | D10: 130 | E10: 111.1 | F10: 8.47 | G10: =+F10/D10*100 -> 6.5153846 | H10: 48.49 | I10: =+H10/D10*100 -> 37.3 | J10: 9.15 | K10: 7.04 | L10: 10.25 | M10: 7.88 | N10: 6.2 | O10: 4.77 | P10: 6.64 | Q10: 5.11 | R10: 21.9 | S10: 16.85 | T10: 0 | U10: 0 | V10: 0 | W10: 0 | X10: 0 | Y10: 0 | Z10: 0 | AA10: 0 | AB10: 0 | AC10: 0 | AD10: 0 | AE10: 0 | AF10: 0 | AG10: 0 | AH10: 0 | AI10: 0 | AJ10: 0 | AK10: 0 | AL10: 0 | AM10: 0 | AN10: 0 | AO10: 0 | AP10: 0 | AQ10: 0
A11: बोंगाईगांव थर्मल पीपी/Bongaigaon Thermal PP | D11: 750 | E11: 637.5 | F11: 37.05 | G11: =+F11/D11*100 -> 4.94 | H11: 189.32776 | I11: =+H11/D11*100 -> 25.243701 | J11: =47.1 -> 47.1 | K11: 6.28 | L11: 51.6 | M11: 6.88 | N11: 31.05 | O11: 4.14 | P11: 32.1 | Q11: 4.28 | R11: 56 | S11: 7.48 | T11: 1.5 | U11: 0.2 | V11: 0 | W11: 0 | X11: 0 | Y11: 0 | Z11: 0 | AA11: 0 | AB11: 0 | AC11: 0 | AD11: 0 | AE11: 0 | AF11: 191.67224 | AG11: =+AF11/D11*100 -> 25.556299 | AH11: 0 | AI11: 0 | AJ11: 0 | AK11: 0 | AL11: 0 | AM11: 0 | AN11: 0 | AO11: 0 | AP11: 0 | AQ11: 0
A12: दोयांग एच.पी.एस / Doyang HPS | D12: 75 | E12: 64 | F12: 5 | G12: =+F12/D12*100 -> 6.6666667 | H12: 28 | I12: =+H12/D12*100 -> 37.333333 | J12: 5 | K12: 6.67 | L12: 5 | M12: 6.67 | N12: 3 | O12: 4 | P12: 13 | Q12: 17.33 | R12: 5 | S12: 6.67 | T12: 0 | U12: 0 | V12: 0 | W12: 0 | X12: 0 | Y12: 0 | Z12: 0 | AA12: 0 | AB12: 0 | AC12: 0 | AD12: 0 | AE12: 0 | AF12: 0 | AG12: 0 | AH12: 0 | AI12: 0 | AJ12: 0 | AK12: 0 | AL12: 0 | AM12: 0 | AN12: 0 | AO12: 0 | AP12: 0 | AQ12: 0
A13: रंगानदी एच.पी.एस / Ranganadi HPS | D13: 405 | E13: 345 | F13: 74 | G13: =+F13/D13*100 -> 18.271605 | H13: 149 | I13: =+H13/D13*100 -> 36.790123 | J13: 29 | K13: 7.16 | L13: 27 | M13: 6.67 | N13: 18 | O13: 4.44 | P13: 19 | Q13: 4.69 | R13: 29 | S13: 7.16 | T13: 0 | U13: 0 | V13: 0 | W13: 0 | X13: 0 | Y13: 0 | Z13: 0 | AA13: 0 | AB13: 0 | AC13: 0 | AD13: 0 | AE13: 0 | AF13: 0 | AG13: 0 | AH13: 0 | AI13: 0 | AJ13: 0 | AK13: 0 | AL13: 0 | AM13: 0 | AN13: 0 | AO13: 0 | AP13: 0 | AQ13: 0
A14: मोनार्चक सीसीजीटी(जी.टी) / Monarchak CCGT(GT) | D14: 101 | E14: 101 | F14: 0 | G14: =+F14/D14*100 -> 0 | H14: 0 | I14: =+H14/D14*100 -> 0 | J14: 0 | K14: 0 | L14: 0 | M14: 0 | N14: 0 | O14: 0 | P14: 0 | Q14: 0 | R14: 101 | S14: 100 | T14: 0 | U14: 0 | V14: 0 | W14: 0 | X14: 0 | Y14: 0 | Z14: 0 | AA14: 0 | AB14: 0 | AC14: 0 | AD14: 0 | AE14: 0 | AF14: 0 | AG14: 0 | AH14: 0 | AI14: 0 | AJ14: 0 | AK14: 0 | AL14: 0 | AM14: 0 | AN14: 0 | AO14: 0 | AP14: 0 | AQ14: 0
A15: पलाटना जी.पी.पी / Pallatana GPP* | D15: 726 | E15: =726-98 -> 628 | F15: 22 | G15: =+F15/D15*100 -> 3.030303 | H15: 240 | I15: =+H15/D15*100 -> 33.057851 | J15: 52 | K15: 7.162534 | L15: 79 | M15: 10.881543 | N15: 42 | O15: 5.785124 | P15: 52 | Q15: 7.162534 | R15: 196 | S15: 26.997245 | T15: 0 | U15: 0 | V15: 0 | W15: 0 | X15: 0 | Y15: 0 | Z15: 0 | AA15: 0 | AB15: 0 | AC15: 0 | AD15: 0 | AE15: 0 | AF15: 0 | AG15: 0 | AH15: 0 | AI15: 0 | AJ15: 0 | AK15: 0 | AL15: 0 | AM15: 0 | AN15: 0 | AO15: 0 | AP15: 0 | AQ15: 0
A16: तुरिअल एच.ई.पी / Tuirial HEP | D16: 60 | E16: 60 | F16: 0 | G16: =+F16/D16*100 -> 0 | H16: 0 | I16: =+H16/D16*100 -> 0 | J16: 0 | K16: 0 | L16: 0 | M16: 0 | N16: 60 | O16: 100 | P16: 0 | Q16: 0 | R16: 0 | S16: 0 | T16: 0 | U16: 0 | V16: 0 | W16: 0 | X16: 0 | Y16: 0 | Z16: 0 | AA16: 0 | AB16: 0 | AC16: 0 | AD16: 0 | AE16: 0 | AF16: 0 | AG16: 0 | AH16: 0 | AI16: 0 | AJ16: 0 | AK16: 0 | AL16: 0 | AM16: 0 | AN16: 0 | AO16: 0 | AP16: 0 | AQ16: 0
A17: पारे एच.ई.पी/Pare HEP | D17: 110 | E17: 93.5 | F17: 20.54 | G17: =+F17/D17*100 -> 18.672727 | H17: 37.28 | I17: =+H17/D17*100 -> 33.890909 | J17: 7.84 | K17: 7.13 | L17: 9.28 | M17: 8.43 | N17: 4.94 | O17: 4.49 | P17: 5.22 | Q17: 4.75 | R17: 8.4 | S17: 7.63 | T17: 0 | U17: 0 | V17: 0 | W17: 0 | X17: 0 | Y17: 0 | Z17: 0 | AA17: 0 | AB17: 0 | AC17: 0 | AD17: 0 | AE17: 0 | AF17: 0 | AG17: 0 | AH17: 0 | AI17: 0 | AJ17: 0 | AK17: 0 | AL17: 0 | AM17: 0 | AN17: 0 | AO17: 0 | AP17: 0 | AQ17: 0
A18: कामेंग एच.ई.पी./ Kameng HEP (Unit I, II, III & IV)* | D18: 600 | E18: 600 | F18: 89 | G18: 14.833333 | H18: 65 | I18: 10.833333 | J18: 0 | K18: 0 | L18: 15 | M18: 2.5 | N18: 0 | O18: 0 | P18: 9 | Q18: 1.5 | R18: 0 | S18: 0 | T18: 0 | U18: 0 | V18: 13 | W18: 2.1666667 | X18: 55 | Y18: 9.1666667 | Z18: 0 | AA18: 0 | AB18: 0 | AC18: 0 | AD18: 0 | AE18: 0 | AF18: 0 | AG18: 0 | AH18: 0 | AI18: 0 | AJ18: 0 | AK18: 0 | AL18: 0 | AM18: 0 | AN18: 13 | AO18: 2.1666667 | AP18: 13 | AQ18: 2.1666667
A19: सुबनसिरी लोअर HEP/Subansiri Lower HEP* | D19: 1250 | E19: 1062.5 | F19: 171.0375 | G19: =F19*100/$D$19 -> 13.683 | H19: 12.5 | I19: =H19*100/$D$19 -> 1 | J19: 27.115 | K19: =J19*100/$D$19 -> 2.1692 | L19: 30.8825 | M19: =L19*100/$D$19 -> 2.4706 | N19: 17.435 | O19: 1.3948 | P19: 18.205 | Q19: 1.4564 | R19: 30.3325 | S19: 2.4266 | T19: =$E$18*U19*0.01 -> 0 | U19: 0 | V19: 26.872313 | W19: 2.149785 | X19: =$D$19*Y19/100 -> 113.72962 | Y19: 9.09837 | Z19: 0 | AA19: 0 | AB19: =$D$19*AC19/100 -> 3.144375 | AC19: 0.25155 | AD19: =$D$19*AE19/100 -> 58.122563 | AE19: 4.649805 | AF19: 205.25394 | AG19: 16.420315 | AH19: =$D$19*AI19/100 -> 114.36281 | AI19: 9.149025 | AJ19: =$D$19*AK19/100 -> 65.629312 | AK19: 5.250345 | AL19: =$D$19*AM19/100 -> 4.980625 | AM19: 0.39845 | AN19: =$D$19*AO19/100 -> 96.892312 | AO19: 7.751385 | AP19: 25.9985 | AQ19: 2.07988
A20: उप-कुल/Sub-Total (A) | D20: =SUM(D5:D19) -> 4872 | E20: =SUM(E5:E19) -> 4268.2455 | F20: =SUM(F5:F19) -> 461.26962 | H20: =SUM(H5:H19) -> 920.92802 | J20: =SUM(J5:J19) -> 243.70525 | L20: =SUM(L5:L19) -> 288.65631 | N20: =SUM(N5:N19) -> 207.61468 | P20: =SUM(P5:P19) -> 191.1943 | R20: =SUM(R5:R19) -> 494.61258 | T20: =SUM(T5:T19) -> 1.5 | V20: =SUM(V5:V19) -> 39.872313 | X20: =SUM(X5:X19) -> 168.72962 | Z20: =SUM(Z5:Z19) -> 0 | AB20: =SUM(AB5:AB19) -> 3.144375 | AD20: =SUM(AD5:AD19) -> 58.122563 | AF20: =SUM(AF5:AF19) -> 541.92618 | AH20: =SUM(AH5:AH19) -> 114.36281 | AJ20: =SUM(AJ5:AJ19) -> 65.629312 | AL20: =SUM(AL5:AL19) -> 4.980625 | AN20: =SUM(AN5:AN19) -> 109.89231 | AP20: =SUM(AP5:AP19) -> 38.9985
A21: (B) फर्म पावर से / अन्य क्षेत्र / FIRM SHARE FROM/ TO OTHER REGIONS
A22: Farakka I & II | E22: =H22+R22 -> 61.68 | H22: 11.68 | I22: 0.73 | R22: 50 | S22: 3.125
A23: Kahalgaon I | E23: 296.436 | H23: 296.436 | I23: 35.29
A24: Talcher I | E24: =H24 -> 4.9 | H24: 4.9 | I24: 0.49
A25: Mouda-I | R25: 5.55
A26: Mangdechu Bhutan | E26: =H26 -> 122.472 | H26: 122.472 | I26: 17.01
A27: Punatsangchhu-II Bhutan | E27: =H27+J27+P27 -> 69.87 | H27: 64.158 | I27: 6.29 | J27: 5.712 | K27: 0.56 | N27: 0 | P27: 0 | Q27: 0
A28: उप-कुल/Sub-Total (B) | E28: =SUM(E22:E27) -> 555.358 | H28: =SUM(H22:H27) -> 499.646 | J28: =SUM(J22:J27) -> 5.712 | L28: =SUM(L22:L27) -> 0 | N28: =SUM(N22:N27) -> 0 | P28: =SUM(P22:P27) -> 0 | R28: =SUM(R22:R27) -> 55.55 | T28: =SUM(T22:T27) -> 0 | V28: =SUM(V22:V27) -> 0 | X28: =SUM(X22:X27) -> 0 | Z28: =SUM(Z22:Z27) -> 0 | AB28: =SUM(AB22:AB27) -> 0 | AD28: =SUM(AD22:AD27) -> 0 | AF28: =SUM(AF22:AF27) -> 0 | AH28: =SUM(AH22:AH27) -> 0 | AJ28: =SUM(AJ22:AJ27) -> 0 | AL28: =SUM(AL22:AL27) -> 0 | AN28: =SUM(AN22:AN27) -> 0 | AP28: =SUM(AP22:AP27) -> 0
A29: (C) कुल फर्म शेयर / TOTAL FIRM SHARE [=A+B] | E29: =E20+E28 -> 4823.6035 | F29: =F20+F28 -> 461.26962 | H29: =H20+H28 -> 1420.574 | J29: =J20+J28 -> 249.41725 | L29: =L20+L28 -> 288.65631 | N29: =N20+N28 -> 207.61468 | P29: =P20+P28 -> 191.1943 | R29: =R20+R28 -> 550.16258 | T29: =T20+T28 -> 1.5 | V29: =V20+V28 -> 39.872313 | X29: =X20+X28 -> 168.72962 | Z29: =Z20+Z28 -> 0 | AB29: =AB20+AB28 -> 3.144375 | AD29: =AD20+AD28 -> 58.122563 | AF29: =AF20+AF28 -> 541.92618 | AH29: =AH20+AH28 -> 114.36281 | AJ29: =AJ20+AJ28 -> 65.629312 | AL29: =AL20+AL28 -> 4.980625 | AN29: =AN20+AN28 -> 109.89231 | AP29: =AP20+AP28 -> 38.9985
A30: (D) एन.ई.आर. सीजीएस की अनाबंटित विद्युत / UNALLOCATED SHARE
A31: लोकतक एच.पी.एस./ Loktak HPS | D31: 105 | E31: 15.0045 | F31: 0.19255775 | G31: =+F31/D31*100 -> 0.18338833 | H31: 6.621986 | I31: =+H31/D31*100 -> 6.3066533 | J31: 1.2253675 | K31: =+J31/D31*100 -> 1.1670167 | L31: 4.90147 | M31: =+L31/D31*100 -> 4.6680667 | N31: 1.2753825 | O31: =+N31/D31*100 -> 1.21465 | P31: 0.650195 | Q31: =+P31/D31*100 -> 0.61923333 | R31: 0.13754125 | S31: =+R31/D31*100 -> 0.13099167 | T31: 0 | U31: 0 | V31: 0 | W31: 0 | X31: 0 | Y31: 0 | Z31: 0 | AA31: 0 | AB31: 0 | AC31: 0 | AD31: 0 | AE31: 0 | AF31: 0 | AG31: 0 | AH31: 0 | AI31: 0 | AJ31: 0 | AK31: 0 | AL31: 0 | AM31: 0 | AN31: 0 | AO31: 0 | AP31: 0 | AQ31: 0
A32: खांडोंग एच.पी.एस./ Khandong HPS | D32: 46 | E32: 6.9 | F32: 0.08855 | G32: =+F32/D32*100 -> 0.1925 | H32: 3.0452 | I32: =+H32/D32*100 -> 6.62 | J32: 0.5635 | K32: =+J32/D32*100 -> 1.225 | L32: 2.254 | M32: =+L32/D32*100 -> 4.9 | N32: 0.5865 | O32: =+N32/D32*100 -> 1.275 | P32: 0.299 | Q32: =+P32/D32*100 -> 0.65 | R32: 0.06325 | S32: =+R32/D32*100 -> 0.1375 | T32: 0 | U32: 0 | V32: 0 | W32: 0 | X32: 0 | Y32: 0 | Z32: 0 | AA32: 0 | AB32: 0 | AC32: 0 | AD32: 0 | AE32: 0 | AF32: 0 | AG32: 0 | AH32: 0 | AI32: 0 | AJ32: 0 | AK32: 0 | AL32: 0 | AM32: 0 | AN32: 0 | AO32: 0 | AP32: 0 | AQ32: 0
A33: कोपिली + कोपीली एक्स्टेंशन एचपीएस/ Kopili+Kopili Extn .HPS | D33: 200 | E33: 30 | F33: 0.385 | G33: =+F33/D33*100 -> 0.1925 | H33: 13.24 | I33: =+H33/D33*100 -> 6.62 | J33: 2.45 | K33: =+J33/D33*100 -> 1.225 | L33: 9.8 | M33: =+L33/D33*100 -> 4.9 | N33: 2.55 | O33: =+N33/D33*100 -> 1.275 | P33: 1.3 | Q33: =+P33/D33*100 -> 0.65 | R33: 0.275 | S33: =+R33/D33*100 -> 0.1375 | T33: 0 | U33: 0 | V33: 0 | W33: 0 | X33: 0 | Y33: 0 | Z33: 0 | AA33: 0 | AB33: 0 | AC33: 0 | AD33: 0 | AE33: 0 | AF33: 0 | AG33: 0 | AH33: 0 | AI33: 0 | AJ33: 0 | AK33: 0 | AL33: 0 | AM33: 0 | AN33: 0 | AO33: 0 | AP33: 0 | AQ33: 0
A34: कोपीली एचईपी स्टेज -।। /Kopili HEP Stg. - II | D34: 23 | E34: 3.45 | F34: ='UA Pool'!E22 -> 0.044275 | G34: =+F34/D34*100 -> 0.1925 | H34: ='UA Pool'!E23 -> 1.5226 | I34: =+H34/D34*100 -> 6.62 | J34: ='UA Pool'!E24 -> 0.28175 | K34: =+J34/D34*100 -> 1.225 | L34: ='UA Pool'!E25 -> 1.127 | M34: =+L34/D34*100 -> 4.9 | N34: ='UA Pool'!E26 -> 0.29325 | O34: =+N34/D34*100 -> 1.275 | P34: ='UA Pool'!E27 -> 0.1495 | Q34: =+P34/D34*100 -> 0.65 | R34: ='UA Pool'!E28 -> 0.031625 | S34: =+R34/D34*100 -> 0.1375 | T34: 0 | U34: 0 | V34: 0 | W34: 0 | X34: 0 | Y34: 0 | Z34: 0 | AA34: 0 | AB34: 0 | AC34: 0 | AD34: 0 | AE34: 0 | AF34: 0 | AG34: 0 | AH34: 0 | AI34: 0 | AJ34: 0 | AK34: 0 | AL34: 0 | AM34: 0 | AN34: 0 | AO34: 0 | AP34: 0 | AQ34: 0
A35: कथलगुरी जी.पी.एस./ Kathalguri GPS | D35: 291 | E35: 44 | F35: 0.56466667 | G35: =+F35/D35*100 -> 0.19404353 | H35: 0 | I35: =+H35/D35*100 -> 0 | J35: 3.5933333 | K35: =+J35/D35*100 -> 1.2348225 | L35: 14.373333 | M35: =+L35/D35*100 -> 4.9392898 | N35: 3.74 | O35: =+N35/D35*100 -> 1.2852234 | P35: 1.9066667 | Q35: =+P35/D35*100 -> 0.65521191 | R35: 0.40333333 | S35: =+R35/D35*100 -> 0.13860252 | T35: 0 | U35: 0 | V35: 0 | W35: 0 | X35: 0 | Y35: 0 | Z35: 0 | AA35: 0 | AB35: 0 | AC35: 0 | AD35: 0 | AE35: 0 | AF35: 19.418667 | AG35: 6.6730813 | AH35: 0 | AI35: 0 | AJ35: 0 | AK35: 0 | AL35: 0 | AM35: 0 | AN35: 0 | AO35: 0 | AP35: 0 | AQ35: 0
A36: अगरतला जीपीएस (सीसी) / Agartala GPS(CC) | D36: 130 | E36: 18.9 | F36: 0.24255 | G36: =+F36/D36*100 -> 0.18657692 | H36: 8.3412 | I36: =+H36/D36*100 -> 6.4163077 | J36: 1.5435 | K36: =+J36/D36*100 -> 1.1873077 | L36: 6.174 | M36: =+L36/D36*100 -> 4.7492308 | N36: 1.6065 | O36: =+N36/D36*100 -> 1.2357692 | P36: 0.819 | Q36: =+P36/D36*100 -> 0.63 | R36: 0.17325 | S36: =+R36/D36*100 -> 0.13326923 | T36: 0 | U36: 0 | V36: 0 | W36: 0 | X36: 0 | Y36: 0 | Z36: 0 | AA36: 0 | AB36: 0 | AC36: 0 | AD36: 0 | AE36: 0 | AF36: 0 | AG36: 0 | AH36: 0 | AI36: 0 | AJ36: 0 | AK36: 0 | AL36: 0 | AM36: 0 | AN36: 0 | AO36: 0 | AP36: 0 | AQ36: 0
A37: बोंगईगांव थर्मल पीपी / Bongaigaon Thermal PP | D37: 750 | E37: 112.5 | F37: 1.44375 | G37: =+F37/D37*100 -> 0.1925 | H37: 24.67224 | I37: =+H37/D37*100 -> 3.289632 | J37: 9.1875 | K37: =+J37/D37*100 -> 1.225 | L37: =1.4+35.35 -> 36.75 | M37: =0.186666666666667+4.71333 -> 4.8999967 | N37: 9.5625 | O37: =+N37/D37*100 -> 1.275 | P37: 4.875 | Q37: =+P37/D37*100 -> 0.65 | R37: 1.03125 | S37: =+R37/D37*100 -> 0.1375 | T37: 0 | U37: 0 | V37: 0 | W37: 0 | X37: 0 | Y37: 0 | Z37: 0 | AA37: 0 | AB37: 0 | AC37: 0 | AD37: 0 | AE37: 0 | AF37: 24.97776 | AG37: 3.330368 | AH37: 0 | AI37: 0 | AJ37: 0 | AK37: 0 | AL37: 0 | AM37: 0 | AN37: 0 | AO37: 0 | AP37: 0 | AQ37: 0
A38: डोयांग एचपीएस / Doyang HPS | D38: 75 | E38: 11 | F38: 0.14116667 | G38: =+F38/D38*100 -> 0.18822222 | H38: 4.8546667 | I38: =+H38/D38*100 -> 6.4728889 | J38: 0.89833333 | K38: =+J38/D38*100 -> 1.1977778 | L38: 3.5933333 | M38: =+L38/D38*100 -> 4.7911111 | N38: 0.935 | O38: =+N38/D38*100 -> 1.2466667 | P38: 0.47666667 | Q38: =+P38/D38*100 -> 0.63555556 | R38: 0.10083333 | S38: =+R38/D38*100 -> 0.13444444 | T38: 0 | U38: 0 | V38: 0 | W38: 0 | X38: 0 | Y38: 0 | Z38: 0 | AA38: 0 | AB38: 0 | AC38: 0 | AD38: 0 | AE38: 0 | AF38: 0 | AG38: 0 | AH38: 0 | AI38: 0 | AJ38: 0 | AK38: 0 | AL38: 0 | AM38: 0 | AN38: 0 | AO38: 0 | AP38: 0 | AQ38: 0
A39: रंगानदी एचपीएस / Ranganadi HPS | D39: 405 | E39: 60 | F39: 0.77 | G39: =+F39/D39*100 -> 0.19012346 | H39: 26.48 | I39: =+H39/D39*100 -> 6.5382716 | J39: 4.9 | K39: =+J39/D39*100 -> 1.2098765 | L39: 19.6 | M39: =+L39/D39*100 -> 4.8395062 | N39: 5.1 | O39: =+N39/D39*100 -> 1.2592593 | P39: 2.6 | Q39: =+P39/D39*100 -> 0.64197531 | R39: 0.55 | S39: =+R39/D39*100 -> 0.13580247 | T39: 0 | U39: 0 | V39: 0 | W39: 0 | X39: 0 | Y39: 0 | Z39: 0 | AA39: 0 | AB39: 0 | AC39: 0 | AD39: 0 | AE39: 0 | AF39: 0 | AG39: 0 | AH39: 0 | AI39: 0 | AJ39: 0 | AK39: 0 | AL39: 0 | AM39: 0 | AN39: 0 | AO39: 0 | AP39: 0 | AQ39: 0
A40: पारे एच.ई.पी/ Pare HEP | D40: 110 | E40: 16.5 | F40: 0.21175 | G40: =+F40/D40*100 -> 0.1925 | H40: 7.282 | I40: =+H40/D40*100 -> 6.62 | J40: 1.3475 | K40: =+J40/D40*100 -> 1.225 | L40: 5.39 | M40: =+L40/D40*100 -> 4.9 | N40: 1.4025 | O40: =+N40/D40*100 -> 1.275 | P40: 0.715 | Q40: =+P40/D40*100 -> 0.65 | R40: 0.15125 | S40: =+R40/D40*100 -> 0.1375 | T40: 0 | U40: 0 | V40: 0 | W40: 0 | X40: 0 | Y40: 0 | Z40: 0 | AA40: 0 | AB40: 0 | AC40: 0 | AD40: 0 | AE40: 0 | AF40: 0 | AG40: 0 | AH40: 0 | AI40: 0 | AJ40: 0 | AK40: 0 | AL40: 0 | AM40: 0 | AN40: 0 | AO40: 0 | AP40: 0 | AQ40: 0
A41: कामेंग एच.ई.पी./ Kameng HEP (Unit I, II, III & IV)* | D41: 0 | E41: 0 | F41: 0 | G41: 0 | H41: 0 | I41: 0 | J41: 0 | K41: 0 | L41: 0 | M41: 0 | N41: 0 | O41: 0 | P41: 0 | Q41: 0 | R41: 0 | S41: 0 | T41: 0 | U41: 0 | V41: 0 | W41: 0 | X41: 0 | Y41: 0 | Z41: 0 | AA41: 0 | AB41: 0 | AC41: 0 | AD41: 0 | AE41: 0 | AF41: 0 | AG41: 0 | AH41: 0 | AI41: 0 | AJ41: 0 | AK41: 0 | AL41: 0 | AM41: 0 | AN41: 0 | AO41: 0 | AP41: 0 | AQ41: 0
A42: सुबनसिरी लोअर HEP/Subansiri Lower HEP* | D42: 1250 | E42: 187.5 | F42: =$D$42*G42/100 -> 2.40625 | G42: 0.1925 | H42: 0 | I42: 0 | J42: =$D$42*K42/100 -> 15.3125 | K42: 1.225 | L42: 24.5 | M42: 1.96 | N42: =$D$42*O42/100 -> 15.9375 | O42: 1.275 | P42: =$D$42*Q42/100 -> 8.125 | Q42: 0.65 | R42: =$D$42*S42/100 -> 1.71875 | S42: 0.1375 | T42: 0 | U42: 0 | V42: 0 | W42: 0 | X42: 0 | Y42: 0 | Z42: 86.4 | AA42: 6.912 | AB42: 0 | AC42: 0 | AD42: 0 | AE42: 0 | AF42: 16.55 | AG42: 1.324 | AH42: 0 | AI42: 0 | AJ42: 0 | AK42: 0 | AL42: 0 | AM42: 0 | AN42: 0 | AO42: 0 | AP42: 16.55 | AQ42: 1.324
A43: उप-कुल/Sub-Total (D) | E43: =SUM(E31:E42) -> 505.7545 | F43: =SUM(F31:F42) -> 6.4905161 | H43: =SUM(H31:H42) -> 96.059892 | J43: =SUM(J31:J42) -> 41.303284 | L43: =SUM(L31:L42) -> 128.46314 | N43: =SUM(N31:N42) -> 42.989133 | P43: =SUM(P31:P42) -> 21.916028 | R43: =SUM(R31:R42) -> 4.6360829 | T43: =SUM(T31:T42) -> 0 | V43: =SUM(V31:V42) -> 0 | X43: =SUM(X31:X42) -> 0 | Z43: =SUM(Z31:Z42) -> 86.4 | AB43: =SUM(AB31:AB42) -> 0 | AD43: =SUM(AD31:AD42) -> 0 | AF43: =SUM(AF31:AF42) -> 60.946427 | AH43: =SUM(AH31:AH42) -> 0 | AJ43: =SUM(AJ31:AJ42) -> 0 | AL43: =SUM(AL31:AL42) -> 0 | AN43: =SUM(AN31:AN42) -> 0 | AP43: =SUM(AP31:AP42) -> 16.55
A44: (E) अन्य क्षेत्रों से विद्युत आबंटन / UNALLOCATED POWER FROM OTHER REGIONS REGION (TOTAL including both peak and off-peak)
A45: जेएनएनएसएम सौर ऊर्जा के साथ बंडलिंग के लिए / For Bundling with JNNSM Solar power | E45: 5 | H45: 5
A46: ईआर एनटीपीसी स्टेशनों++ की शेष अनलोकेटेड ऊर्जा / Balance Unallocated power of ER NTPC Stations++ | E46: 161 | F46: 6.654 | H46: 134.33 | N46: 4.88 | P46: 14.7
A47: Mouda-I | R47: 50.45
A48: Mangdechu Bhutan | E48: 21.61 | H48: 21.61
A49: उप-कुल/ Sub-Total € | E49: =SUM(E45:E48) -> 187.61 | F49: =SUM(F45:F48) -> 6.654 | G49: =SUM(G45:G48) -> 0 | H49: =SUM(H45:H48) -> 160.94 | I49: =SUM(I45:I48) -> 0 | J49: =SUM(J45:J48) -> 0 | K49: =SUM(K45:K48) -> 0 | L49: =SUM(L45:L48) -> 0 | ... AQ49: =SUM(AQ45:AQ48) -> 0
A50: (F) एनईआर लाभार्थियों को कुल अनाबंटित विद्युत / TOTAL UNALLOCATED POWER TO NER BENEFICIARIES(E+D) | E50: =E49+E43 -> 693.3645 | F50: =SUM(F31:F41)+F49 -> 10.738266 | H50: =H49+H43 -> 256.99989 | J50: =J49+J43 -> 41.303284 | L50: =L49+L43 -> 128.46314 | N50: =N49+N43 -> 47.869133 | P50: =P49+P43 -> 36.616028 | R50: =R49+R43 -> 55.086083 | T50: =T49+T43 -> 0 | V50: =V49+V43 -> 0 | X50: =X49+X43 -> 0
A51: (G) एनईआर लाभार्थियों का कुल आबंटन / TOTAL ALLOCATION TO NER BENEFICIARIES [=C+F] | E51: =E50+E29 -> 5516.968 | F51: =F50+F29 -> 472.00788 | H51: =H50+H29 -> 1677.5739 | J51: =J50+J29 -> 290.72054 | L51: =L50+L29 -> 417.11944 | N51: =N50+N29 -> 255.48381 | P51: =P50+P29 -> 227.81033 | R51: =R50+R29 -> 605.24867 | T51: =T50+T29 -> 1.5 | V51: =V50+V29 -> 39.872313 | X51: =X50+X29 -> 168.72962 | AN51: =AN50+AN29 -> 109.89231 | AP51: =AP50+AP29 -> 38.9985
A52: (H) कमिशनित लेकिन गैर-सी.ओ.डी. यूनिट / COMMISSIONED BUT NON-CoD UNITS
A53: (I) कुल पावर / TOTAL POWER [=G+H] | E53: =E51 -> 5516.968 | F53: =F51 -> 472.00788 | G53: =G51 -> 0 | H53: =H51 -> 1677.5739 | I53: =I51 -> 0 | J53: =J51 -> 290.72054 | K53: =K51 -> 0 | L53: =L51 -> 417.11944 | ... AQ53: =AQ51 -> 0
A55: * Plants have Merchant Power

Sheet UA Pool
A1: Stations | B1: Loktak HPS | C1: Khandong HPS | D1: Kopili+Kopili Extn .HPS | E1: Kopili HEP Stg. - II | F1: Kathalguri GPS | G1: Agartala GPS(CC) | H1: Bongaigaon Thermal PP | I1: Doyang HPS | J1: Ranganadi HPS | K1: Pare HEP | L1: Subansiri | M1: Total | Q1: PERCENTAGE SHARES AND ENTITLEMENTS OF NORTH EASTERN REGION UTILITIES
A2: Installed Capacity (MW) | B2: 105 | C2: 46 | D2: 200 | E2: 23 | F2: 291 | G2: 130 | H2: 750 | I2: 75 | J2: 405 | K2: 110 | L2: 1250 | Q2: IN VARIOUS CENTRAL SECTOR GENERATING STATIONS
A3: Unallocated Power in % | B3: =B4*100/B2 -> 14.29 | C3: =C4*100/C2 -> 15 | D3: =D4*100/D2 -> 15 | E3: =E4*100/E2 -> 15 | F3: =F4*100/F2 -> 15.120275 | G3: =G4*100/G2 -> 14.538462 | H3: =H4*100/H2 -> 15 | I3: =I4*100/I2 -> 14.666667 | ... L3: =L4*100/L2 -> 15
A4: Unallocated Power in MW | B4: =[1]FIRM_UA_ENTITLEMENT!C27 -> 15.0045 | C4: =C2*0.15 -> 6.9 | D4: =[1]FIRM_UA_ENTITLEMENT!E27 -> 30 | E4: =E2*0.15 -> 3.45 | F4: =[1]FIRM_UA_ENTITLEMENT!G27 -> 44 | G4: =[1]FIRM_UA_ENTITLEMENT!H27 -> 18.9 | H4: =[1]FIRM_UA_ENTITLEMENT!I27 -> 112.5 | I4: =[1]FIRM_UA_ENTITLEMENT!J27 -> 11 | J4: =[1]FIRM_UA_ENTITLEMENT!K27 -> 60 | K4: =[1]FIRM_UA_ENTITLEMENT!L27 -> 16.5 | L4: 187.5 | M4: =SUM(B4:L4) -> 505.7545
A6: Specific allocation from specific stations
A7: To Tamil Nadu
A8: To Uttarakhand | Q8: A. Allocations from N.E.R. (All figures in %)
A9: Arunachal Pradesh
A10: Assam
A11: Manipur
A12: Meghalaya
A13: Mizoram
A14: Nagaland
A15: Tripura
A16: Gujarat | F16: 19.418667 | H16: 24.97776 | L16: 16.55
A17: Tamil Nadu | L17: 16.55
A18: Karnataka | L18: 86.4
A19: Balance | B19: =B4-SUM(B6:B18) -> 15.0045 | C19: =C4-SUM(C6:C18) -> 6.9 | D19: =D4-SUM(D6:D18) -> 30 | E19: =E4-SUM(E6:E18) -> 3.45 | F19: =F4-SUM(F6:F18) -> 24.581333 | G19: =G4-SUM(G6:G18) -> 18.9 | H19: =H4-SUM(H6:H18) -> 87.52224 | I19: =I4-SUM(I6:I18) -> 11 | ... L19: =L4-SUM(L6:L18) -> 68 | M19: =M4-SUM(M6:M15) -> 505.7545
Q20: ="U.A.-Pooled "&S39&" MW " -> U.A.-Pooled 505.7545 MW
A21: Distribution of Balance UA | Q21: State/UT | R21: Round the clock
A22: Arunachal Pradesh | B22: =$N$22*B19/100 -> 0.19255775 | C22: =$N$22*C19/100 -> 0.08855 | D22: =$N$22*D19/100 -> 0.385 | E22: =$N$22*E19/100 -> 0.044275 | F22: 0.56466667 | G22: =$N$22*G19/100 -> 0.24255 | H22: 1.44375 | I22: =$N$22*I19/100 -> 0.14116667 | J22: =$N$22*J19/100 -> 0.77 | K22: =$N$22*K19/100 -> 0.21175 | L22: 2.40625 | M22: =$N$22*M19/100 -> 6.4905161 | N22: =(B35*4+C35*20)/24 -> 1.2833333
A23: Assam | B23: =$N$23*B19/100 -> 6.621986 | C23: =$N$23*C19/100 -> 3.0452 | D23: =$N$23*D19/100 -> 13.24 | E23: =$N$23*E19/100 -> 1.5226 | F23: 0 | G23: =$N$23*G19/100 -> 8.3412 | H23: 24.67224 | I23: =$N$23*I19/100 -> 4.8546667 | J23: =$N$23*J19/100 -> 26.48 | K23: =$N$23*K19/100 -> 7.282 | L23: 0 | M23: =$N$23*M19/100 -> 223.20632 | N23: =(B36*4+C36*20)/24 -> 44.133333 | Q23: Arunachal Pradesh | R23: 1.2833333
A24: Manipur | B24: =$N$24*B19/100 -> 1.2253675 | C24: =$N$24*C19/100 -> 0.5635 | D24: =$N$24*D19/100 -> 2.45 | E24: =$N$24*E19/100 -> 0.28175 | F24: 3.5933333 | G24: =$N$24*G19/100 -> 1.5435 | H24: 9.1875 | I24: =$N$24*I19/100 -> 0.89833333 | J24: =$N$24*J19/100 -> 4.9 | K24: =$N$24*K19/100 -> 1.3475 | L24: 15.3125 | M24: =$N$24*M19/100 -> 41.303284 | N24: =(B37*4+C37*20)/24 -> 8.1666667 | Q24: Assam | R24: 44.133333
A25: Meghalaya | B25: =$N$25*B19/100 -> 4.90147 | C25: =$N$25*C19/100 -> 2.254 | D25: =$N$25*D19/100 -> 9.8 | E25: =$N$25*E19/100 -> 1.127 | F25: 14.373333 | G25: =$N$25*G19/100 -> 6.174 | H25: 36.75 | I25: =$N$25*I19/100 -> 3.5933333 | J25: =$N$25*J19/100 -> 19.6 | K25: =$N$25*K19/100 -> 5.39 | L25: 24.5 | M25: =$N$25*M19/100 -> 165.21314 | N25: =(B38*4+C38*20)/24 -> 32.666667 | Q25: Manipur | R25: 8.1666667
A26: Mizoram | B26: =$N$26*B19/100 -> 1.2753825 | C26: =$N$26*C19/100 -> 0.5865 | D26: =$N$26*D19/100 -> 2.55 | E26: =$N$26*E19/100 -> 0.29325 | F26: 3.74 | G26: =$N$26*G19/100 -> 1.6065 | H26: 9.5625 | I26: =$N$26*I19/100 -> 0.935 | J26: =$N$26*J19/100 -> 5.1 | K26: =$N$26*K19/100 -> 1.4025 | L26: 15.9375 | M26: =$N$26*M19/100 -> 42.989132 | N26: =(B39*4+C39*20)/24 -> 8.5 | Q26: Meghalaya | R26: 32.666667
A27: Nagaland | B27: =$N$27*B19/100 -> 0.650195 | C27: =$N$27*C19/100 -> 0.299 | D27: =$N$27*D19/100 -> 1.3 | E27: =$N$27*E19/100 -> 0.1495 | F27: 1.9066667 | G27: =$N$27*G19/100 -> 0.819 | H27: 4.875 | I27: =$N$27*I19/100 -> 0.47666667 | J27: =$N$27*J19/100 -> 2.6 | K27: =$N$27*K19/100 -> 0.715 | L27: 8.125 | M27: =$N$27*M19/100 -> 21.916028 | N27: =(B40*4+C40*20)/24 -> 4.3333333 | Q27: Mizoram | R27: 8.5
A28: Tripura | B28: =$N$28*B19/100 -> 0.13754125 | C28: =$N$28*C19/100 -> 0.06325 | D28: =$N$28*D19/100 -> 0.275 | E28: =$N$28*E19/100 -> 0.031625 | F28: 0.40333333 | G28: =$N$28*G19/100 -> 0.17325 | H28: 1.03125 | I28: =$N$28*I19/100 -> 0.10083333 | J28: =$N$28*J19/100 -> 0.55 | K28: =$N$28*K19/100 -> 0.15125 | L28: 1.71875 | M28: =$N$28*M19/100 -> 4.6360829 | N28: =(B41*4+C41*20)/24 -> 0.91666667 | Q28: Nagaland | R28: 4.3333333
M29: =SUM(M22:M28) -> 505.7545 | N29: =SUM(N22:N28) -> 100 | Q29: Tripura | R29: 0.91666667
Q33: Total | R33: =SUM(R23:R29) -> 100
A34: States | B34: Peak % | C34: Off Peak % | D34: RTC
A35: Arunachal Pradesh | B35: 2.7 | C35: 1 | D35: =(B35*4+C35*20)/24 -> 1.2833333 | P35: 1 | Q35: Total Unallocated Pool Power | S35: =M4 -> 505.7545 | T35: MW
A36: Assam | B36: 37.3 | C36: 45.5 | D36: =(B36*4+C36*20)/24 -> 44.133333
A37: Manipur | B37: 9 | C37: 8 | D37: =(B37*4+C37*20)/24 -> 8.1666667
A38: Meghalaya | B38: 33.5 | C38: 32.5 | D38: =(B38*4+C38*20)/24 -> 32.666667
A39: Mizoram | B39: 8.5 | C39: 8.5 | D39: =(B39*4+C39*20)/24 -> 8.5 | P39: 2 | Q39: Balance Unallocated Pool for beneficiaries of the Region | S39: =S35-S36-S37 -> 505.7545 | T39: MW
A40: Nagaland | B40: 3.5 | C40: 4.5 | D40: =(B40*4+C40*20)/24 -> 4.3333333
A41: Tripura | B41: 5.5 | C41: 0 | D41: =(B41*4+C41*20)/24 -> 0.91666667
